BEGIN:VCALENDAR
VERSION:2.0
PRODID:https://github.com/derhansen/sf_event_mgt
METHOD:PUBLISH
BEGIN:VEVENT
UID:696-20@www.musikschulwerk-vorarlberg.at
CLASS: PUBLIC
SUMMARY:Zwerglekonzert
DESCRIPTION:Ein gemeinsames Konzert mit unseren kleinen und jungen SchülerI
 nnen.
LOCATION:Spannrahmen Hard
DTSTAMP:20260114T094630Z
DTSTART:20260529T150000Z
DTEND:20260529T160000Z
END:VEVENT
END:VCALENDAR
