BEGIN:VCALENDAR
VERSION:2.0
PRODID:https://github.com/derhansen/sf_event_mgt
METHOD:PUBLISH
BEGIN:VEVENT
UID:730-20@www.musikschulwerk-vorarlberg.at
CLASS: PUBLIC
SUMMARY:Tanzaufführung
DESCRIPTION:Tanzaufführung der Dance Academy  Tanzabteilung der Musikschule
  am Hofsteig\n\nKarten ab 18. Mai im Büro der Musikschule
LOCATION:Musikschule am Hofsteig
DTSTAMP:20260219T095602Z
DTSTART:20260613T120000Z
DTEND:20260613T173000Z
END:VEVENT
END:VCALENDAR
