BEGIN:VCALENDAR
VERSION:2.0
PRODID:https://github.com/derhansen/sf_event_mgt
METHOD:PUBLISH
BEGIN:VEVENT
UID:691-20@www.musikschulwerk-vorarlberg.at
CLASS: PUBLIC
SUMMARY:Tanzabschluss der KLEINEN
DESCRIPTION:
LOCATION:Volksschule Tschagguns
DTSTAMP:20251106T100531Z
DTSTART:20260617T140000Z
DTEND:20260617T150000Z
END:VEVENT
END:VCALENDAR
