BEGIN:VCALENDAR
VERSION:2.0
PRODID:https://github.com/derhansen/sf_event_mgt
METHOD:PUBLISH
BEGIN:VEVENT
UID:668-20@www.musikschulwerk-vorarlberg.at
CLASS: PUBLIC
SUMMARY:Tag der offenen Tür
DESCRIPTION:
LOCATION:Musikschule am Hofsteig
DTSTAMP:20251031T105709Z
DTSTART:20260530T080000Z
DTEND:20260530T110000Z
END:VEVENT
END:VCALENDAR
