BEGIN:VCALENDAR
VERSION:2.0
PRODID:https://github.com/derhansen/sf_event_mgt
METHOD:PUBLISH
BEGIN:VEVENT
UID:663-20@www.musikschulwerk-vorarlberg.at
CLASS: PUBLIC
SUMMARY:Tag der offenen Tür
DESCRIPTION:
LOCATION:Schulzentrum Bürs
DTSTAMP:20251031T104111Z
DTSTART:20260509T080000Z
DTEND:20260509T110000Z
END:VEVENT
END:VCALENDAR
