BEGIN:VCALENDAR
VERSION:2.0
PRODID:https://github.com/derhansen/sf_event_mgt
METHOD:PUBLISH
BEGIN:VEVENT
UID:729-20@www.musikschulwerk-vorarlberg.at
CLASS: PUBLIC
SUMMARY:Summer Night
DESCRIPTION:
LOCATION:Villa Grünau
DTSTAMP:20260219T095035Z
DTSTART:20260609T170000Z
DTEND:20260609T190000Z
END:VEVENT
END:VCALENDAR
