BEGIN:VCALENDAR
VERSION:2.0
PRODID:https://github.com/derhansen/sf_event_mgt
METHOD:PUBLISH
BEGIN:VEVENT
UID:736-20@www.musikschulwerk-vorarlberg.at
CLASS: PUBLIC
SUMMARY:Stufenprüfungen Holzblasinstrumente
DESCRIPTION:
LOCATION:Musikschule Feldkirch
DTSTAMP:20260219T102308Z
DTSTART:20260613T060000Z
DTEND:20260613T110000Z
END:VEVENT
END:VCALENDAR
