BEGIN:VCALENDAR
VERSION:2.0
PRODID:https://github.com/derhansen/sf_event_mgt
METHOD:PUBLISH
BEGIN:VEVENT
UID:735-20@www.musikschulwerk-vorarlberg.at
CLASS: PUBLIC
SUMMARY:Stufenprüfungen Blechblasinstrumente
DESCRIPTION:
LOCATION:Musikschule Feldkirch
DTSTAMP:20260219T102143Z
DTSTART:20260516T070000Z
DTEND:20260516T160000Z
END:VEVENT
END:VCALENDAR
