BEGIN:VCALENDAR
VERSION:2.0
PRODID:https://github.com/derhansen/sf_event_mgt
METHOD:PUBLISH
BEGIN:VEVENT
UID:732-20@www.musikschulwerk-vorarlberg.at
CLASS: PUBLIC
SUMMARY:Stufenprüfungen
DESCRIPTION:
LOCATION:Musikschule am Hofsteig
DTSTAMP:20260219T100003Z
DTSTART:20260508T070000Z
DTEND:20260508T140000Z
END:VEVENT
END:VCALENDAR
