BEGIN:VCALENDAR
VERSION:2.0
PRODID:https://github.com/derhansen/sf_event_mgt
METHOD:PUBLISH
BEGIN:VEVENT
UID:458-20@www.musikschulwerk-vorarlberg.at
CLASS: PUBLIC
SUMMARY:Studienvorbereitung Musiktheorie und Gehörbildung 2024/2025
DESCRIPTION:Die Zulassungsprüfungen zu  Musikstudien bestehen aus mehreren 
 Teilen. Tests in Musiktheorie und Gehörbildung sind meist ein Teil davon. U
 m Studieninteressierte in diesen beiden Fächern zu unterstützen, bietet das
  Vorarlberger Musikschulwerk im Schuljahr 2024/2025 zum ersten Mal einen ei
 genen Studienvorbereitungskurs (StuVo) an. Alle Interessierten mit Studienb
 eginn in den nächsten zwei bis drei Jahren sind eingeladen, daran teilzuneh
 men. Es werden alle prinzipiellen Anforderungen der Zulassungsprüfungen unt
 errichtet. Außerdem versuchen wir, auf studien- bzw. standortspezifische In
 halte einzugehen.\n\nDer Kurs ist als Ganzjahreskurs konzipiert und bietet 
 an den 30 Terminen mit je 3 Stunden insgesamt ca. 90 Unterrichtseinheiten. 
 Diese sind geteilt in Musiktheorie und Gehörbildung und werden von zwei Ref
 erentInnen unterrichtet.\n\nVoraussetzung für den Besuch dieses Kurses ist 
 das Wissen des Musikkunde Mittelstufenkurses an den Musikschulen. Wenn jema
 nd diesen noch nicht absolviert hat oder sich bei den Inhalten unsicher ist
   – aber im laufenden Schuljahr eine Zulassungsprüfung hat – so empfehlen w
 ir, diesen parallel an der Musikschule zu besuchen.\n\nVorausgesetztes Wiss
 en: Theorie: Alle Intervalle und deren Feinbestimmung. Alle Tonarten des Qu
 intenzirkels in Dur und Moll. Dreiklänge in Dur, Moll, vermindert und überm
 äßig und deren Umkehrungen. Kenntnis der Hauptstufendreiklänge und Dominant
 septakkord in der Grundstellung, Kenntnis der Oktavbezeichnungen, lesen und
  schreiben in Violin- und Bassschlüssel. Gehörbildung: Intervalle und deren
  Feinbestimmung. Akkorde in der Grundstellung erkennen (Dur, Moll, verminde
 rt, übermäßig). Melodien im Oktavraum erkennen und notieren. Rhythmusdiktat
 e auf Niveau der Mittelstufe.  Als Vorbereitung und Auffrischung der Gehörb
 ildung empfehlen die Lehrenden auch das Online-Training, z.B. auf www.musik
 um-salzburg.at (unter Services zu finden) oder die Website https://tonesavv
 y.com/\n\nSchülerInnen (und deren Lehrende), die sich unsicher über die Eig
 nung zum StuVo-Kurs sind, können Kontakt zu Susanne Mayr (musikkunde@musiks
 chulwerk-vorarlberg.at) aufnehmen.\n\nDetails: Termin: jeweils Samstag von 
 09.05 – 11.55 Uhr (inkl. Pause)\n\nKursstart: Samstag, 05.10.2024\n\nKursge
 bühr: € 180,- pro Semester, eine Anmeldung ist nur für beide Semester mögli
 ch.\n\nMit der Überweisung der Gebühr des ersten Semesters wird die Anmeldu
 ng gültig. IBAN: AT06 5800 0007 8554 6113 (Vorarlberger Musikschulwerk) Ver
 wendungszweck: StuVO-Kurs und Name\n\nBei nachträglichen Abmeldungen nach d
 em 08.10.2024 können die Kurskosten nicht mehr retourniert werden.\n\nDer K
 urs startet mit mind. sechs TeilnehmerInnen. Bei sehr großer TeilnehmerInne
 nzahl behalten sich die Organisatorinnen vor, einen weiteren Kurs anzubiete
 n. In diesem Fall werden Sie telefonisch oder per E-Mail kontaktiert.\n\nAn
 meldeschluss: 03.10.2024
LOCATION:Musikschule Dornbirn, Office am Bahnhof
DTSTAMP:20241212T081618Z
DTSTART:20241005T070500Z
DTEND:20250705T091200Z
END:VEVENT
END:VCALENDAR
