BEGIN:VCALENDAR
VERSION:2.0
PRODID:https://github.com/derhansen/sf_event_mgt
METHOD:PUBLISH
BEGIN:VEVENT
UID:478-20@www.musikschulwerk-vorarlberg.at
CLASS: PUBLIC
SUMMARY:Konzert und Urkundenübergabe Oberstufenprüfung 2026
DESCRIPTION:
LOCATION:Remise Bludenz
DTSTAMP:20260414T081825Z
DTSTART:20260504T170000Z
DTEND:20260504T190000Z
END:VEVENT
END:VCALENDAR
