BEGIN:VCALENDAR
VERSION:2.0
PRODID:https://github.com/derhansen/sf_event_mgt
METHOD:PUBLISH
BEGIN:VEVENT
UID:737-20@www.musikschulwerk-vorarlberg.at
CLASS: PUBLIC
SUMMARY:Sommernachtskonzert
DESCRIPTION:
LOCATION:Stella Vorarlberg Privathochschule für Musik
DTSTAMP:20260219T102450Z
DTSTART:20260612T160000Z
DTEND:20260612T180000Z
END:VEVENT
END:VCALENDAR
