BEGIN:VCALENDAR
VERSION:2.0
PRODID:https://github.com/derhansen/sf_event_mgt
METHOD:PUBLISH
BEGIN:VEVENT
UID:695-20@www.musikschulwerk-vorarlberg.at
CLASS: PUBLIC
SUMMARY:Sommerkonzert
DESCRIPTION:Das größte Jahreskonzert des Schuljahres 2025/26 der Musikschul
 e Hard.
LOCATION:Spannrahmen
DTSTAMP:20251106T101705Z
DTSTART:20260513T160000Z
DTEND:20260513T173000Z
END:VEVENT
END:VCALENDAR
