BEGIN:VCALENDAR
VERSION:2.0
PRODID:https://github.com/derhansen/sf_event_mgt
METHOD:PUBLISH
BEGIN:VEVENT
UID:728-20@www.musikschulwerk-vorarlberg.at
CLASS: PUBLIC
SUMMARY:Schlusskonzert
DESCRIPTION:
LOCATION:Hofsteigsaal Lauterach
DTSTAMP:20260219T094739Z
DTSTART:20260619T170000Z
DTEND:20260619T183000Z
END:VEVENT
END:VCALENDAR
