BEGIN:VCALENDAR
VERSION:2.0
PRODID:https://github.com/derhansen/sf_event_mgt
METHOD:PUBLISH
BEGIN:VEVENT
UID:705-20@www.musikschulwerk-vorarlberg.at
CLASS: PUBLIC
SUMMARY:Schlusskonzert
DESCRIPTION:Die Musikschule lädt wieder zum traditionsreichen Schlusskonzer
 t – diesmal in die Pfarrkirche St. Gallus. Es musizieren langjährige Schüle
 r:innen unserer Schule, sowie Preisträger:innen von „prima la musica“ und a
 nderen Wettbewerben. Weiters hören Sie Ensembles und Orchester der Schule, 
 die Sie mit wunderbaren Klängen in den Sommer begleiten.
LOCATION:Pfarrkirche St. Gallus
DTSTAMP:20251106T111103Z
DTSTART:20260630T163000Z
DTEND:20260630T180000Z
END:VEVENT
END:VCALENDAR
