BEGIN:VCALENDAR
VERSION:2.0
PRODID:https://github.com/derhansen/sf_event_mgt
METHOD:PUBLISH
BEGIN:VEVENT
UID:692-20@www.musikschulwerk-vorarlberg.at
CLASS: PUBLIC
SUMMARY:Schlusskonzert
DESCRIPTION:
LOCATION:Kulturbühne Schruns
DTSTAMP:20251106T100711Z
DTSTART:20260620T170000Z
DTEND:20260620T183000Z
END:VEVENT
END:VCALENDAR
