BEGIN:VCALENDAR
VERSION:2.0
PRODID:https://github.com/derhansen/sf_event_mgt
METHOD:PUBLISH
BEGIN:VEVENT
UID:687-20@www.musikschulwerk-vorarlberg.at
CLASS: PUBLIC
SUMMARY:Schlusskonzert
DESCRIPTION:
LOCATION:Treff.Punkt
DTSTAMP:20251106T095434Z
DTSTART:20260621T083000Z
DTEND:20260621T093000Z
END:VEVENT
END:VCALENDAR
