BEGIN:VCALENDAR
VERSION:2.0
PRODID:https://github.com/derhansen/sf_event_mgt
METHOD:PUBLISH
BEGIN:VEVENT
UID:717-20@www.musikschulwerk-vorarlberg.at
CLASS: PUBLIC
SUMMARY:Rock im Kino
DESCRIPTION:Eintritt frei!
LOCATION:Altes Kino Rankweil
DTSTAMP:20251126T095107Z
DTSTART:20260612T170000Z
DTEND:20260612T200000Z
END:VEVENT
END:VCALENDAR
