BEGIN:VCALENDAR
VERSION:2.0
PRODID:https://github.com/derhansen/sf_event_mgt
METHOD:PUBLISH
BEGIN:VEVENT
UID:565-20@www.musikschulwerk-vorarlberg.at
CLASS: PUBLIC
SUMMARY:prima la musica Landeswettbewerb 2027
DESCRIPTION:
LOCATION:Stella Vorarlberg Privathochschule für Musik
DTSTAMP:20250424T091349Z
DTSTART:20270223T230000Z
DTEND:20270226T230000Z
END:VEVENT
END:VCALENDAR
