BEGIN:VCALENDAR
VERSION:2.0
PRODID:https://github.com/derhansen/sf_event_mgt
METHOD:PUBLISH
BEGIN:VEVENT
UID:738-20@www.musikschulwerk-vorarlberg.at
CLASS: PUBLIC
SUMMARY:Muttertagskonzert
DESCRIPTION:
LOCATION:Stella Vorarlberg Privathochschule für Musik
DTSTAMP:20260219T102604Z
DTSTART:20260508T160000Z
DTEND:20260508T173000Z
END:VEVENT
END:VCALENDAR
