BEGIN:VCALENDAR
VERSION:2.0
PRODID:https://github.com/derhansen/sf_event_mgt
METHOD:PUBLISH
BEGIN:VEVENT
UID:731-20@www.musikschulwerk-vorarlberg.at
CLASS: PUBLIC
SUMMARY:Muttertagskonzert
DESCRIPTION:Motto "Unsere Kleinen"\n\nBei diesem Konzert zeigen unsere "Kle
 inen", dass man nicht groß sein muss, um Großes zu leisten.\n\nEintritt fre
 i
LOCATION:Gemeindesaal Schwarzach
DTSTAMP:20260219T095814Z
DTSTART:20260506T163000Z
DTEND:20260506T173000Z
END:VEVENT
END:VCALENDAR
