BEGIN:VCALENDAR
VERSION:2.0
PRODID:https://github.com/derhansen/sf_event_mgt
METHOD:PUBLISH
BEGIN:VEVENT
UID:655-20@www.musikschulwerk-vorarlberg.at
CLASS: PUBLIC
SUMMARY:Musikschultage - Sommer am Platz
DESCRIPTION:
LOCATION:Kirchplatz Lustenau
DTSTAMP:20251031T101912Z
DTSTART:20260626T173000Z
DTEND:20260626T190000Z
END:VEVENT
END:VCALENDAR
