BEGIN:VCALENDAR
VERSION:2.0
PRODID:https://github.com/derhansen/sf_event_mgt
METHOD:PUBLISH
BEGIN:VEVENT
UID:653-20@www.musikschulwerk-vorarlberg.at
CLASS: PUBLIC
SUMMARY:Musikschultage - Serenadenkonzert
DESCRIPTION:
LOCATION:Pfarrzentrum Höchst
DTSTAMP:20251031T101620Z
DTSTART:20260622T163000Z
DTEND:20260622T173000Z
END:VEVENT
END:VCALENDAR
