BEGIN:VCALENDAR
VERSION:2.0
PRODID:https://github.com/derhansen/sf_event_mgt
METHOD:PUBLISH
BEGIN:VEVENT
UID:237-20@www.musikschulwerk-vorarlberg.at
CLASS: PUBLIC
SUMMARY:MUSIKSCHULLEHRERTAG - Musikschule all inclusive
DESCRIPTION:Um der Idee einer inklusiven Musikschule, also einer „Musikschu
 le für alle“ gerecht werden zu können, gilt es barrierefreie Angebote zu e
 ntwickeln. So ist es auch in der UN – Behindertenrechtskonvention festgehal
 ten, die 2008 in Österreich ratifiziert wurde.\n\nEs gibt in Österreich ber
 eits viele inklusiv unterrichtende Lehrende, inklusive Musikgruppen, Verans
 taltungen, Projekte und vieles mehr. Anhand einiger praktischer Beispiele v
 ermittelt dieser Vortrag verschiedene Ansätze, Methoden, Konzepte und Ideen
  für ein gelingendes inklusives Musizieren.\n\nFlexibel sein, unorthodoxe V
 organgsweisen ausprobieren, Instrumente anpassen, Stücke in vielfältiger We
 ise arrangieren, komponieren, improvisieren, auch kleinste Lernschritte von
  Lernenden wertschätzen und sie didaktisch geschickt weiterführen, sind wic
 htige Fähigkeiten die von MusikpädagogInnen entwickelt werden damit befried
 igende, förderliche Musiziersituationen gelingen. Was auf den ersten Blick 
 als Mehraufwand erscheint stellt sich als gewinnbringend und bereichernd fü
 r ALLE Beteiligten heraus.\n\nDie Interessensgemeinschaft Musik inklusiv (w
 ww.igmi.at) wird hier ebenfalls vorgestellt, welche ein Impulspapier entwic
 kelt hat, das die grundsätzliche Leitidee zu inklusivem Musikmachen und Ums
 etzungsmöglichkeiten beschreibt. Igmi ist außerdem eine österreichweite Pla
 ttform für Menschen, die selbst in diesem Bereich tätig sind, inklusiv musi
 zieren wollen oder Interesse an diesem Thema haben.\n\nAnschließender Austa
 usch und Diskussion ist erwünscht!
LOCATION:Kulturbühne AMBACH
DTSTAMP:20230828T094213Z
DTSTART:20230913T081500Z
DTEND:20230913T100000Z
END:VEVENT
END:VCALENDAR
