BEGIN:VCALENDAR
VERSION:2.0
PRODID:https://github.com/derhansen/sf_event_mgt
METHOD:PUBLISH
BEGIN:VEVENT
UID:615-20@www.musikschulwerk-vorarlberg.at
CLASS: PUBLIC
SUMMARY:Musikkundeunterricht - Erfahrungsaustausch
DESCRIPTION:Theory Into Practice\n\nDie Lehrenden tauschen untereinander Er
 fahrung aus und verraten ihre besten Tipps aus der Unterrichtspraxis.
LOCATION:Musikschule Rankweil-Vorderland
DTSTAMP:20250912T101448Z
DTSTART:20251003T070000Z
DTEND:20251003T100000Z
END:VEVENT
END:VCALENDAR
