BEGIN:VCALENDAR
VERSION:2.0
PRODID:https://github.com/derhansen/sf_event_mgt
METHOD:PUBLISH
BEGIN:VEVENT
UID:427-20@www.musikschulwerk-vorarlberg.at
CLASS: PUBLIC
SUMMARY:Musikkunde im Fokus
DESCRIPTION:Der Fachbereich Musikkunde vereint vielfältige Kompetenzen wie 
 Gehörbildung, Tonsatz, Analyse und Musikgeschichte. Diese Fähigkeiten sind 
 essenziell, um Musik nicht nur passiv zu konsumieren, sondern aktiv und ver
 tieft zu genießen und neue musikalische Welten zu entdecken.\n\nIm Kurs wer
 den die Herausforderungen des Musikkundeunterrichts thematisiert und versch
 iedene Lösungsansätze präsentiert. Persönliche Erfahrungen aus den verschie
 denen Fachbereichen bieten praxisnahe Einblicke und veranschaulichen konkre
 te Beispiele aus dem Unterricht. Der Fokus liegt auf den musiktheoretischen
  Kenntnissen, die für ein Hochschulstudium erforderlich sind.\n\nDarüber hi
 naus wird grundlegend über den Einsatz neuer digitaler Medien reflektiert. 
 Es wird untersucht, wie moderne Technologien das Musikhören, -erleben und -
 lernen beeinflussen und bereichern können. Dabei werden sowohl die Chancen 
 als auch die Gefahren digitaler Werkzeuge beleuchtet.
LOCATION:Stella Vorarlberg Privathochschule für Musik
DTSTAMP:20240909T111342Z
DTSTART:20241130T100000Z
DTEND:20241130T120000Z
END:VEVENT
END:VCALENDAR
