BEGIN:VCALENDAR
VERSION:2.0
PRODID:https://github.com/derhansen/sf_event_mgt
METHOD:PUBLISH
BEGIN:VEVENT
UID:185-20@www.musikschulwerk-vorarlberg.at
CLASS: PUBLIC
SUMMARY:Musikalisches Freudenfest
DESCRIPTION:mit dem Kinderorchester, der Jugendsinfonietta, verschiedenen E
 nsembles und Tanzgruppen der Rheintalischen Musikschule
LOCATION:Freudenhaus
DTSTAMP:20221206T122309Z
DTSTART:20230429T083000Z
DTEND:20230429T093000Z
END:VEVENT
END:VCALENDAR
