BEGIN:VCALENDAR
VERSION:2.0
PRODID:https://github.com/derhansen/sf_event_mgt
METHOD:PUBLISH
BEGIN:VEVENT
UID:701-20@www.musikschulwerk-vorarlberg.at
CLASS: PUBLIC
SUMMARY:Konzert zum Muttertag
DESCRIPTION:
LOCATION:Kulturbühne Möggers
DTSTAMP:20251106T105432Z
DTSTART:20260508T163000Z
DTEND:20260508T173000Z
END:VEVENT
END:VCALENDAR
