BEGIN:VCALENDAR
VERSION:2.0
PRODID:https://github.com/derhansen/sf_event_mgt
METHOD:PUBLISH
BEGIN:VEVENT
UID:699-20@www.musikschulwerk-vorarlberg.at
CLASS: PUBLIC
SUMMARY:Konzert im Kloster
DESCRIPTION:Konzert der Musikschule in der wunderschönen Kirche des Kloster
  Gwiggen.
LOCATION:Kloster Gwiggen
DTSTAMP:20251106T104656Z
DTSTART:20260424T170000Z
DTEND:20260424T180000Z
END:VEVENT
END:VCALENDAR
