BEGIN:VCALENDAR
VERSION:2.0
PRODID:https://github.com/derhansen/sf_event_mgt
METHOD:PUBLISH
BEGIN:VEVENT
UID:708-20@www.musikschulwerk-vorarlberg.at
CLASS: PUBLIC
SUMMARY:Konzert der Lehrpersonen
DESCRIPTION:
LOCATION:Sonnenbergsaal
DTSTAMP:20251118T091657Z
DTSTART:20260614T083000Z
DTEND:20260614T100000Z
END:VEVENT
END:VCALENDAR
