BEGIN:VCALENDAR
VERSION:2.0
PRODID:https://github.com/derhansen/sf_event_mgt
METHOD:PUBLISH
BEGIN:VEVENT
UID:700-20@www.musikschulwerk-vorarlberg.at
CLASS: PUBLIC
SUMMARY:Konzert der Jüngsten
DESCRIPTION:Jahreskonzert der Musikschule Leiblachtal
LOCATION:Leiblachtalsaal
DTSTAMP:20251106T105955Z
DTSTART:20260429T163000Z
DTEND:20260429T180000Z
END:VEVENT
END:VCALENDAR
