BEGIN:VCALENDAR
VERSION:2.0
PRODID:https://github.com/derhansen/sf_event_mgt
METHOD:PUBLISH
BEGIN:VEVENT
UID:704-20@www.musikschulwerk-vorarlberg.at
CLASS: PUBLIC
SUMMARY:Jubiläumsgala
DESCRIPTION:125-Jahr-Jubiläum der Musikschule Bregenz
LOCATION:Festspiel- und Kongresshaus
DTSTAMP:20251106T110755Z
DTSTART:20260505T163000Z
DTEND:20260505T190000Z
END:VEVENT
END:VCALENDAR
