BEGIN:VCALENDAR
VERSION:2.0
PRODID:https://github.com/derhansen/sf_event_mgt
METHOD:PUBLISH
BEGIN:VEVENT
UID:715-20@www.musikschulwerk-vorarlberg.at
CLASS: PUBLIC
SUMMARY:Jahreskonzert
DESCRIPTION:Eintritt frei!
LOCATION:Vinomnasaal
DTSTAMP:20251126T094544Z
DTSTART:20260613T170000Z
DTEND:20260613T180000Z
END:VEVENT
END:VCALENDAR
