BEGIN:VCALENDAR
VERSION:2.0
PRODID:https://github.com/derhansen/sf_event_mgt
METHOD:PUBLISH
BEGIN:VEVENT
UID:702-20@www.musikschulwerk-vorarlberg.at
CLASS: PUBLIC
SUMMARY:Jahreskonzert
DESCRIPTION:
LOCATION:Leiblachtalsaal
DTSTAMP:20251106T105844Z
DTSTART:20260612T163000Z
DTEND:20260612T180000Z
END:VEVENT
END:VCALENDAR
