BEGIN:VCALENDAR
VERSION:2.0
PRODID:https://github.com/derhansen/sf_event_mgt
METHOD:PUBLISH
BEGIN:VEVENT
UID:661-20@www.musikschulwerk-vorarlberg.at
CLASS: PUBLIC
SUMMARY:Jahreskonzert
DESCRIPTION:
LOCATION:Lechwelten
DTSTAMP:20251031T103655Z
DTSTART:20260425T150000Z
DTEND:20260425T170000Z
END:VEVENT
END:VCALENDAR
