BEGIN:VCALENDAR
VERSION:2.0
PRODID:https://github.com/derhansen/sf_event_mgt
METHOD:PUBLISH
BEGIN:VEVENT
UID:707-20@www.musikschulwerk-vorarlberg.at
CLASS: PUBLIC
SUMMARY:Jahreskonzert 2026
DESCRIPTION:
LOCATION:Ramschwagsaal Nenzing
DTSTAMP:20251118T091524Z
DTSTART:20260529T160000Z
DTEND:20260529T173000Z
END:VEVENT
END:VCALENDAR
