BEGIN:VCALENDAR
VERSION:2.0
PRODID:https://github.com/derhansen/sf_event_mgt
METHOD:PUBLISH
BEGIN:VEVENT
UID:641-20@www.musikschulwerk-vorarlberg.at
CLASS: PUBLIC
SUMMARY:Infotag
DESCRIPTION:
LOCATION:Musikmittelschule Thüringen
DTSTAMP:20251031T085239Z
DTSTART:20260425T070000Z
DTEND:20260425T100000Z
END:VEVENT
END:VCALENDAR
