BEGIN:VCALENDAR
VERSION:2.0
PRODID:https://github.com/derhansen/sf_event_mgt
METHOD:PUBLISH
BEGIN:VEVENT
UID:223-20@www.musikschulwerk-vorarlberg.at
CLASS: PUBLIC
SUMMARY:Im Fokus des Klarinettenunterrichts
DESCRIPTION:Dikaktischer und pädagogischer Erfahrungsaustausch\n\n 	Situati
 onen aus dem Unterrichtsalltag 	Erörterung klarinettendidaktischer Frageste
 llungen 	Selbstwahrnehmung und Probieren als wesentlicher Bestandteil des d
 idaktischen Denkens ... 	Problembereich c3 	Zungenstellung - Muskelaufbau \
 n\nExemplarische Unterrichtseinheiten mit gemeinsamer Diskussion\n\nZentral
 e Kommunikationsform dieses Tages ist das gemeinsame Tun, Diskutieren, die 
 gemeinsame Suche nach Lösungen und Antworten und das Probieren und Musizier
 en am Instrument.
LOCATION:Musikschule Dornbirn, Alte Kochschule
DTSTAMP:20230227T094621Z
DTSTART:20230617T070000Z
DTEND:20230617T140000Z
END:VEVENT
END:VCALENDAR
