BEGIN:VCALENDAR
VERSION:2.0
PRODID:https://github.com/derhansen/sf_event_mgt
METHOD:PUBLISH
BEGIN:VEVENT
UID:706-20@www.musikschulwerk-vorarlberg.at
CLASS: PUBLIC
SUMMARY:Erwachsenenkonzert
DESCRIPTION:
LOCATION:Museumswelt
DTSTAMP:20251118T090938Z
DTSTART:20260507T170000Z
DTEND:20260507T180000Z
END:VEVENT
END:VCALENDAR
