BEGIN:VCALENDAR
VERSION:2.0
PRODID:https://github.com/derhansen/sf_event_mgt
METHOD:PUBLISH
BEGIN:VEVENT
UID:42-20@www.musikschulwerk-vorarlberg.at
CLASS: PUBLIC
SUMMARY:CRESCENDO
DESCRIPTION:Sich üben und reflektieren, dabei wachsen und entwickeln - man/
 frau "crescendiert"\n\nEin "Wachsen" für die AbsolventInnen aus GANZ in der
  Musik®\n\nBei diesem Workshop werden weitere, neue Inputs die absolvierte 
 Ausbildung ergänzen.\n\nMit der Referentin werden brauchbare Stücke für das
  Erarbeiten im Unterricht ausprobiert, relativ solmisiert, Abläufe gefestig
 t und wiederholt, über sinnvolle Testungen nachgedacht, neue Materialien vo
 rgestellt ... - ein begleitendes Miteinander für die praktische Umsetzung i
 m Unterricht.\n\nDieser Tage sind auch für interessierte Neugierige geeigne
 t, um zu erfahren, was man denn bei GANZ in der Musik ® so tut ...\n\nAlle 
 TeilnehmerInnen haben die Möglichkeit, sich mit „FragenVorAb“ persönliche F
 ragegebiete auszusuchen und mitzuteilen – sie sollten spätestens eine Woche
  vor dem Crescendo unter info@ganzindermusik.com eingelangt sein.
LOCATION:Musikschule Bludenz
DTSTAMP:20230919T080904Z
DTSTART:20220923T160000Z
DTEND:20220923T190000Z
END:VEVENT
END:VCALENDAR
