BEGIN:VCALENDAR
VERSION:2.0
PRODID:https://github.com/derhansen/sf_event_mgt
METHOD:PUBLISH
BEGIN:VEVENT
UID:580-20@www.musikschulwerk-vorarlberg.at
CLASS: PUBLIC
SUMMARY:Bundeswettbewerb prima la musica 2026
DESCRIPTION:Weitere Informationen unter:\n\nhttps://musikderjugend.at/prima
 -la-musica/bundeswettbewerb \n\n\n\n
LOCATION:Eisenstadt
DTSTAMP:20250710T100304Z
DTSTART:20260521T220000Z
DTEND:20260606T215900Z
END:VEVENT
END:VCALENDAR
