BEGIN:VCALENDAR
VERSION:2.0
PRODID:https://github.com/derhansen/sf_event_mgt
METHOD:PUBLISH
BEGIN:VEVENT
UID:153-20@www.musikschulwerk-vorarlberg.at
CLASS: PUBLIC
SUMMARY:BigBand Sound im Weihnachtskleid
DESCRIPTION:
LOCATION:Arche Egg
DTSTAMP:20221118T094623Z
DTSTART:20221126T180000Z
DTEND:20221126T190000Z
END:VEVENT
END:VCALENDAR
