BEGIN:VCALENDAR
VERSION:2.0
PRODID:https://github.com/derhansen/sf_event_mgt
METHOD:PUBLISH
BEGIN:VEVENT
UID:156-20@www.musikschulwerk-vorarlberg.at
CLASS: PUBLIC
SUMMARY:Advent im Theater Kosmos - Kinderweihnacht
DESCRIPTION:Schülerinnen und Schüler der EMP Klassen, sowie Gitarrenensembl
 es, Chöre und der Streicherspielkreis gestalten einen musikalischen Advent.
 \n\nBegrenzte Anzahl an Sitzplätzen. Reservierungen sind ab 1. Dezember im 
 Sekretariat der Musikschule möglich.
LOCATION:Theater KOSMOS
DTSTAMP:20221118T101445Z
DTSTART:20221218T093000Z
DTEND:20221218T103000Z
END:VEVENT
END:VCALENDAR
