BEGIN:VCALENDAR
VERSION:2.0
PRODID:https://github.com/derhansen/sf_event_mgt
METHOD:PUBLISH
BEGIN:VEVENT
UID:703-20@www.musikschulwerk-vorarlberg.at
CLASS: PUBLIC
SUMMARY:Abend der Tanzklassen
DESCRIPTION:Eine tolle Tanz-Show, in welcher alle Kinder unserer Tanzklasse
 n auf der Bühne tanzen.
LOCATION:Leiblachtalsaal
DTSTAMP:20251106T110254Z
DTSTART:20260619T160000Z
DTEND:20260619T173000Z
END:VEVENT
END:VCALENDAR
