BEGIN:VCALENDAR
VERSION:2.0
PRODID:https://github.com/derhansen/sf_event_mgt
METHOD:PUBLISH
BEGIN:VEVENT
UID:476-20@www.musikschulwerk-vorarlberg.at
CLASS: PUBLIC
SUMMARY:9. Vorarlberger Hackbrett- und Zithertag
DESCRIPTION:Der nächste Hackbrett- und Zithertag steht vor der Tür: Eingela
 den sind alle Zither- & HackbrettspielerInnen, unabhängig von ihren Kenntni
 ssen und dem Alter. Es werden auch zwei Begleitkurse speziell für Volksmusi
 k stattfinden (Gitarre, Harfe).\n\nWir haben WorkshopleiterInnen eingeladen
 , die sich bei einem Konzert am Freitag, den 24. Jänner 2025 um 19.00 Uhr p
 räsentieren werden. Am Samstag wird in kleineren und größeren Ensembles mus
 iziert. Diese werden von den Lehrenden nach Niveau und Alter zusammengestel
 lt.\n\nReferentinnen & Referenten Magdalena Pedarnig (KTN, T), Zither Dorot
 hea Kügler (VBG), Hackbrett Sabrina Haas (T), Gitarre Andrea Gamper (VBG), 
 Harfe Jörg Lanzinger (D), Zither Gernot Niederfriniger (Süd-T), Zither Mich
 al Müller (CZ), Zither\n\nAussteller Steffen Meinel (Horst Wünsche Zupfinst
 rumentenbau) Peter Mürnseer (Mürnseer Musikinstrumentenbau) Kleinere Repara
 turen sind vor Ort möglich.\n\nSelbstverständlich sind – freie Plätze vorau
 sgesetzt – auch Gäste aus den benachbarten Ländern willkommen. Andere Instr
 umente können gerne im Ensemble mitspielen! Wir bitten jedoch vorab um Absp
 rache mit den OrganisatorInnen.\n\nNach der Anmeldung werden den Teilnehmer
 Innen die Stücke zugeschickt, die jeweils zuhause vorbereitet und dann beim
  Kurs verfeinert werden.\n\nPreise € 35,- Jugendliche SchülerInnen einer Vo
 rarlberger Musikschule € 60,- Erwachsene SchülerInnen einer Vorarlberger Mu
 sikschule € 45,- Jugendliche Extern € 85,- Erwachsene Extern\n\nBitte die K
 urskosten bis 20. Dezember 2024 auf folgendes Konto überweisen: Vorarlberge
 r Musikschulwerk, IBAN: AT06 5800 0007 8554 6113 (Bei Überweisungen aus dem
  Ausland: Spesenfrei für den Empfänger)\n\nMit der Anmeldung bestätigen Sie
 , dass im Sinne der DSGVO Fotos der Veranstaltung auf der Website bzw. in d
 en Berichten der Veranstalter veröffentlicht und den Printmedien und Radio/
 Fernsehen (ORF, rtv, Medienhaus) zur Verfügung gestellt werden dürfen.\n\nI
 n Zusammenarbeit mit Heimatpflegeverein Bregenzerwald Musikschule Bregenzer
 wald Vorarlberger Volksliedwerk
LOCATION:Musikmittelschule Lingenau
DTSTAMP:20250109T101314Z
DTSTART:20250125T080000Z
DTEND:20250125T173000Z
END:VEVENT
END:VCALENDAR
