BEGIN:VCALENDAR
VERSION:2.0
PRODID:https://github.com/derhansen/sf_event_mgt
METHOD:PUBLISH
BEGIN:VEVENT
UID:646-20@www.musikschulwerk-vorarlberg.at
CLASS: PUBLIC
SUMMARY:FESTAKT 50 Jahre tonart Musikschule
DESCRIPTION:Die tonart Musikschule feiert 50 Jahre. Feiern Sie gemeinsam mi
 t unseren Orchestern, Chören, Ensembles, Bands und Solisten…\n\nEintritt fr
 ei!
LOCATION:Kulturbühne AMBACH
DTSTAMP:20260320T085559Z
DTSTART:20260621T083000Z
DTEND:20260621T093000Z
END:VEVENT
END:VCALENDAR
